BEGIN:VCALENDAR
VERSION:2.0
PRODID:-//TEST**Tineke** - ECPv6.5.0//NONSGML v1.0//EN
CALSCALE:GREGORIAN
METHOD:PUBLISH
X-WR-CALNAME:TEST**Tineke**
X-ORIGINAL-URL:http://tineke.test-vanbaren.net
X-WR-CALDESC:Evenementen voor TEST**Tineke**
REFRESH-INTERVAL;VALUE=DURATION:PT1H
X-Robots-Tag:noindex
X-PUBLISHED-TTL:PT1H
BEGIN:VTIMEZONE
TZID:Europe/Amsterdam
BEGIN:DAYLIGHT
TZOFFSETFROM:+0100
TZOFFSETTO:+0200
TZNAME:CEST
DTSTART:20070325T010000
END:DAYLIGHT
BEGIN:STANDARD
TZOFFSETFROM:+0200
TZOFFSETTO:+0100
TZNAME:CET
DTSTART:20071028T010000
END:STANDARD
END:VTIMEZONE
BEGIN:VEVENT
DTSTART;VALUE=DATE:20070101
DTEND;VALUE=DATE:20070102
DTSTAMP:20260420T002902
CREATED:20170908T213720Z
LAST-MODIFIED:20170918T144801Z
UID:47-1167609600-1167695999@tineke.test-vanbaren.net
SUMMARY:Boek
DESCRIPTION:“Hedendaagse Kunst en Creativiteit in Nieuwkoop”  Uitgeverij Bert Post
URL:http://tineke.test-vanbaren.net/event/boek/
CATEGORIES:Eigen,Publicatie
END:VEVENT
END:VCALENDAR