BEGIN:VCALENDAR
VERSION:2.0
PRODID:-//TEST**Tineke** - ECPv6.5.0//NONSGML v1.0//EN
CALSCALE:GREGORIAN
METHOD:PUBLISH
X-ORIGINAL-URL:http://tineke.test-vanbaren.net
X-WR-CALDESC:Evenementen voor TEST**Tineke**
REFRESH-INTERVAL;VALUE=DURATION:PT1H
X-Robots-Tag:noindex
X-PUBLISHED-TTL:PT1H
BEGIN:VTIMEZONE
TZID:Europe/Amsterdam
BEGIN:DAYLIGHT
TZOFFSETFROM:+0100
TZOFFSETTO:+0200
TZNAME:CEST
DTSTART:20230326T010000
END:DAYLIGHT
BEGIN:STANDARD
TZOFFSETFROM:+0200
TZOFFSETTO:+0100
TZNAME:CET
DTSTART:20231029T010000
END:STANDARD
END:VTIMEZONE
BEGIN:VEVENT
DTSTART;VALUE=DATE:20230210
DTEND;VALUE=DATE:20230605
DTSTAMP:20260422T235543
CREATED:20221106T164521Z
LAST-MODIFIED:20221106T164608Z
UID:638-1675987200-1685923199@tineke.test-vanbaren.net
SUMMARY:Vermeer
DESCRIPTION:Het grootste overzicht van Johannes Vermeer
URL:http://tineke.test-vanbaren.net/event/vermeer/
LOCATION:Amsterdam\, Amsterdam\, Noord Holland\, Nederland
CATEGORIES:Tentoonstelling
END:VEVENT
END:VCALENDAR